BEGIN:VCALENDAR
VERSION:2.0
PRODID:-//PEAK Performances - ECPv6.1.1//NONSGML v1.0//EN
CALSCALE:GREGORIAN
METHOD:PUBLISH
X-WR-CALNAME:PEAK Performances
X-ORIGINAL-URL:https://www.peakperfs.org
X-WR-CALDESC:Events for PEAK Performances
REFRESH-INTERVAL;VALUE=DURATION:PT1H
X-Robots-Tag:noindex
X-PUBLISHED-TTL:PT1H
BEGIN:VTIMEZONE
TZID:America/Los_Angeles
BEGIN:DAYLIGHT
TZOFFSETFROM:-0800
TZOFFSETTO:-0700
TZNAME:PDT
DTSTART:20260308T100000
END:DAYLIGHT
BEGIN:STANDARD
TZOFFSETFROM:-0700
TZOFFSETTO:-0800
TZNAME:PST
DTSTART:20261101T090000
END:STANDARD
END:VTIMEZONE
BEGIN:VEVENT
DTSTART;TZID=America/Los_Angeles:20260424T120000
DTEND;TZID=America/Los_Angeles:20260424T130000
DTSTAMP:20260421T001129
CREATED:20260408T194055Z
LAST-MODIFIED:20260408T194203Z
UID:5988-1777032000-1777035600@www.peakperfs.org
SUMMARY:Red Baraat
DESCRIPTION:Free outdoor event! Red Baraat is a pioneering band from Brooklyn\, New York. Conceived by dhol player Sunny Jain\, the group has drawn worldwide praise for its singular sound\, a merging of hard-driving Punjabi rhythms with elements of hip-hop\, jazz\, and raw punk energy. The band’s live shows are an unparalleled collision of virtuosity\, party\, and joy\, as Red Baraat reminds us that we are truly all in this together.
URL:https://www.peakperfs.org/event/red-baraat/
CATEGORIES:2025 - 2026
ATTACH;FMTTYPE=image/jpeg:https://www.peakperfs.org/wp-content/uploads/2026/04/RED-BARAAT1080x1440-4.8-FINAL.jpg
END:VEVENT
END:VCALENDAR